BEGIN:VCALENDAR
VERSION:2.0
PRODID:-//wp-events-plugin.com//7.2.3.1//EN
TZID:Europe/Stockholm
X-WR-TIMEZONE:Europe/Stockholm
BEGIN:VEVENT
UID:12@dadsarmy.se
DTSTART;TZID=Europe/Stockholm:20251030T120000
DTEND;TZID=Europe/Stockholm:20251102T100000
DTSTAMP:20250817T163252Z
URL:https://www.dadsarmy.se/events/dads-lan-winter-2025/
SUMMARY:Dad´s Höst LAN 2025- Hjo edition
DESCRIPTION:Dad's Höst Lan 2025\nPrecis som sist kommer vi hyra stora park
  och lilla park så det kommer finnas gott med sovyta på lanet.\nVi har e
 n hel biograf med scen som sovyta.\n\nDet finns också ett närliggande ho
 tell och önskas bra priser där så hör av er till @hammarn86 eller @ewi
 kman som kan tipsa om bra rabatt-länkar.\n\nDATUM:\n\nStart Torsdagen 30 
 oktober kl 18:00\nSlut: Söndagen 2 november kl 10:00\n\n\n\n\nREGLER:\n\n
 -DADS-biljett:  Pris : 495 kr för medlemmar och gäster //gäster reggar
  sig som medlem sen kan medverka på lanet.\nAlla måste vara medlemmar i 
 DADS (utom barnen) för att kunna boka biljetterna\, det gäller även ext
 erna gäster. Det är bara att signa upp sig via hemsidan sedan boka bilje
 tterna.\n\n\n-Barnbiljett /delat bord: 0 kr för barn ( målsman tar ansva
 r för sitt barn)\n(För att barnen skall kunna komma gratis förutsätts 
 att man delar bord.)\n\nGenom att boka så bekräftar du våra regler för
  bokning enligt nedan:\n\n- Efter sista september återbetalas ej LAN-avgi
 ften.\n\n-Biljetterna släpps kvällen 17 augusti kl 18:00\n\n-Vi börjar 
 med att släppa 40 st biljetter och det är först till kvarn för våra m
 edlemmar att hinna boka!\n\n-Om lanet blir fullt räknar vi på dem som be
 talat först som får platsen.\n\n-Boka biljetten och när betalning inkom
 mit så har du "säkrat" biljetten så betala så fort du kan så säkrar"
  du din plats.\n\n@krokarn godkänner biljetten när betalning inkommit.\n
 \nDADS rekommenderar enkelmadrasser för platsytans skull.\n(även om vi h
 yr mer yta denna gång så är dubbelmadrasser otympliga samt ur olämplig
 a ur brandsäkerhetssynpunkt.\n\n-Ordningsregler: De ansvariga har rätt a
 tt vid misskötsel avbryta lanet för de som missköter sig.\n\n-swisha 12
 3 589 336 7 för enklast handläggning av biljetter.\n\n/styrelsen genom a
 ncientevil_one\n\n&nbsp\;\n\n 
ATTACH;FMTTYPE=image/jpeg:https://www.dadsarmy.se/wp-content/uploads/2025/
 06/Dadslan25host.png
LOCATION:Kulturkvarteret Pedagogien Lilla Park Hjo\, Bangatan 1 B\, Hjo\, V
 ästra Götaland\, 54430\, Skaraborg\, Sverige
X-APPLE-STRUCTURED-LOCATION;VALUE=URI;X-ADDRESS=Bangatan 1 B\, Hjo\, Västr
 a Götaland\, 54430\, Skaraborg\, Sverige;X-APPLE-RADIUS=100;X-TITLE=Kultu
 rkvarteret Pedagogien Lilla Park Hjo:geo:0,0
END:VEVENT
BEGIN:VTIMEZONE
TZID:Europe/Stockholm
X-LIC-LOCATION:Europe/Stockholm
BEGIN:STANDARD
DTSTART:20251026T020000
TZOFFSETFROM:+0200
TZOFFSETTO:+0100
TZNAME:CET
END:STANDARD
END:VTIMEZONE
END:VCALENDAR