BEGIN:VCALENDAR
VERSION:2.0
PRODID:-//wp-events-plugin.com//7.2.3.1//EN
TZID:Europe/Stockholm
X-WR-TIMEZONE:Europe/Stockholm
BEGIN:VEVENT
UID:11@dadsarmy.se
DTSTART;TZID=Europe/Stockholm:20250501T120000
DTEND;TZID=Europe/Stockholm:20250504T100000
DTSTAMP:20250303T074402Z
URL:https://www.dadsarmy.se/events/dads-lan-summer-2025-hjo/
SUMMARY:Dad´s LAN Summer 2025 Hjo
DESCRIPTION:Dad's LAN Summer 2025 Hjo edition!\n\nDad's Lan Summer 2025 i H
 jo\nVi kommer öppna lanet ännu tidigare och vi kommer köra i Hjo igen!\
 n\nVi kommer hyra även stora park så vi kommer ha ännu mer sovyta för 
 landeltagarna samt öppna lanet tidigare på dagen!\n\nSå denna gång sat
 sar vi lite extra på att lanet skall bli ett toppenlan för alla deltagar
 na.\n\nVi kommer också behöva uppgradera switchar och annat för bästa 
 upplevelsen med 10GBIT mellan switcharna så lagg kommer vara ett minne bl
 ott.\n\nDATUM: Torsdagen den 1 maj kl 12:00 till 4 maj kl 10:00\n\n&nbsp\;
 \n\nMer sovyta enligt ritning nedan! Vi kommer hyra stora park också!\n\n
 &nbsp\;\n\n\n\n\nREGLER:\n\n-DADS-biljett:  Pris : 495 kr för medlemmar 
 och gäster //gäster reggar sig som medlem sen kan medverka på lanet.\nA
 lla måste vara medlemmar i DADS (utom barnen) för att kunna boka biljett
 erna. Även externa gäster. Det är bara att signa upp sig via hemsidan s
 edan boka biljetterna.\n\n-Barnbiljett /delat bord: 0 kr för barn ( måls
 man tar ansvar för sitt barn)\n\nGenom att boka så bekräftar du våra r
 egler för bokning enligt nedan:\n\n-medtag 10 meter nätverkskabel.\n\n- 
 Efter sista april 2025 återbetalas ej biljett-avgiften oavsett orsak till
  avbokning.\n-Biljetterna släpps kvällen 2mars kl 22:00.\n-Vi börjar me
 d att släppa 40 st biljetter och det är först till kvarn!\n-Om lanet bl
 ir fullt räknar vi på dem som betalat först som får platsen.\nDADS rek
 ommenderar enkelmadrasser för platsytans skull.\n(även om vi hyr mer yta
  denna gång så är dubbel madrasser otympliga.\n-Ordningsregler: De ansv
 ariga har rätt att vid misskötsel avbryta lanet för de som missköter s
 ig.\n\n-swisha 123 589 336 7\n\n/styrelsen genom ancientevil_one
LOCATION:Kulturkvarteret Pedagogien Lilla Park Hjo\, Bangatan 1 B\, Hjo\, V
 ästra Götaland\, 54430\, Skaraborg\, Sverige
X-APPLE-STRUCTURED-LOCATION;VALUE=URI;X-ADDRESS=Bangatan 1 B\, Hjo\, Västr
 a Götaland\, 54430\, Skaraborg\, Sverige;X-APPLE-RADIUS=100;X-TITLE=Kultu
 rkvarteret Pedagogien Lilla Park Hjo:geo:0,0
END:VEVENT
BEGIN:VTIMEZONE
TZID:Europe/Stockholm
X-LIC-LOCATION:Europe/Stockholm
BEGIN:DAYLIGHT
DTSTART:20250330T030000
TZOFFSETFROM:+0100
TZOFFSETTO:+0200
TZNAME:CEST
END:DAYLIGHT
END:VTIMEZONE
END:VCALENDAR